Workbook

Sheet 2-3;3-7
A1: Меню разработано по сборнику рецептурных блюд и кулинарных изделий для питания детей в
A2: дошкольных организациях. Руководители разработки сборника: Могильный М.П. Тутельян В.А.
A3: Возрастная категория с1-3 лет; 3-7 лет на 10,5 часов 85% на 2022год
A4: день 1-й
A5: прием пищи | B5: Наименование | C5: Выход | E5: Пищевые вещества (г) | K5: Энергетическая ценность (ккал) | M5: Витамин С | O5: № рецептуры
B6: блюда | C6: блюда | E6: Б | G6: Ж | I6: У
C7: ясли | D7: сад | E7: ясли | F7: сад | G7: ясли | H7: сад | I7: ясли | J7: сад | K7: ясли | L7: сад | M7: ясли | N7: сад
A8: Завтрак | B8: Каша молочная геркулесовая | C8: 160 | D8: 210 | E8: 4.05 | F8: 5.35 | G8: 2.06 | H8: 2.75 | I8: 25.19 | J8: 31.95 | K8: 135 | L8: 174 | M8: 0 | N8: 0 | O8: 168
B9: Батон нарезной | C9: 24 | D9: 30 | E9: =7.5*24/100 -> 1.8 | F9: =7.5*30/100 -> 2.25 | G9: =2.9*24/1000 -> 0.0696 | H9: =2.9*30/1000 -> 0.087 | I9: =51.4*24/100 -> 12.336 | J9: =51.4*30/100 -> 15.42 | K9: =262*24/100 -> 62.88 | L9: =262*30/100 -> 78.6 | M9: =0 -> 0 | N9: 0 | O9: 111/2
B10: Масло сливочное | C10: 10 | D10: 10 | E10: 0.08 | F10: 0.08 | G10: 7.25 | H10: 7.25 | I10: 0.13 | J10: 0.13 | K10: 66 | L10: 66 | M10: 0 | N10: 0 | O10: 6
B11: Кофейный напиток | C11: 150 | D11: 180 | E11: 2.34 | F11: 2.85 | G11: 2 | H11: 2.41 | I11: 10.63 | J11: 14.36 | K11: 70 | L11: 91 | M11: 0.98 | N11: 1.17 | O11: 395
A12: 2-й завтрак | B12: Сок | C12: 200 | D12: 200 | E12: =0.45*200/150 -> 0.6 | F12: =0.45*200/150 -> 0.6 | G12: =0.15*200/150 -> 0.2 | H12: =0.15*200/150 -> 0.2 | I12: =22.8*200/150 -> 30.4 | J12: =22.8*200/150 -> 30.4 | K12: =94*200/150 -> 125.33333 | L12: =94*200/150 -> 125.33333 | M12: =6*200/150 -> 8 | N12: =6*200/150 -> 8 | O12: 399
A13: Обед | B13: Икра кабачковая | C13: 45 | D13: 60 | E13: =9.06*45/1000 -> 0.4077 | F13: =9.06*60/1000 -> 0.5436 | G13: =47.02*45/1000 -> 2.1159 | H13: =47.02*60/1000 -> 2.8212 | I13: =59.24*45/1000 -> 2.6658 | J13: =59.24*60/1000 -> 3.5544 | K13: =696*45/1000 -> 31.32 | L13: =696*60/1000 -> 41.76 | M13: =55.23*45/1000 -> 2.48535 | N13: =55.23*60/1000 -> 3.3138 | O13: 53
B14: Суп с рыбными консервами | C14: 200 | D14: 250 | E14: =34.39*200/1000 -> 6.878 | F14: =34.39*250/1000 -> 8.5975 | G14: =33.62*200/1000 -> 6.724 | H14: =33.62*250/1000 -> 8.405 | I14: =57.33*200/1000 -> 11.466 | J14: =57.33*250/1000 -> 14.3325 | K14: =669*200/1000 -> 133.8 | L14: =669*250/1000 -> 167.25 | M14: =36.45*200/1000 -> 7.29 | N14: =36.45*250/1000 -> 9.1125 | O14: 87
B15: Гуляш из отварной говядины | C15: 60/60 | D15: 80/80 | E15: 15.42 | F15: 20.63 | G15: 12.41 | H15: 16.3 | I15: 3.96 | J15: 5.24 | K15: 189 | L15: 250 | M15: 0.6 | N15: 1.11 | O15: 277
B16: Каша рассыпчатая гречневая | C16: 100 | D16: 150 | E16: =57.32*100/1000 -> 5.732 | F16: =57.32*150/1000 -> 8.598 | G16: =40.62*100/1000 -> 4.062 | H16: =40.62*150/1000 -> 6.093 | I16: =257.61*100/1000 -> 25.761 | J16: =257.61*150/1000 -> 38.6415 | K16: =1625*100/1000 -> 162.5 | L16: =1625*150/1000 -> 243.75 | M16: 0 | N16: 0 | O16: 313
B17: Компот из кураги | C17: 150 | D17: 180 | E17: =2.2*150/1000 -> 0.33 | F17: =2.2*180/1000 -> 0.396 | G17: =0.1*150/1000 -> 0.015 | H17: =0.1*180/1000 -> 0.018 | I17: =138.84*150/1000 -> 20.826 | J17: =138.84*180/1000 -> 24.9912 | K17: =565*150/1000 -> 84.75 | L17: =565*180/1000 -> 101.7 | M17: =2*150/1000 -> 0.3 | N17: =2*200/1000 -> 0.4 | O17: 376
B18: Хлеб пшеничный | C18: 20 | D18: 25 | E18: =7.6*20/100 -> 1.52 | F18: =7.6*25/100 -> 1.9 | G18: =0.8*20/1000 -> 0.016 | H18: =0.8*25/1000 -> 0.02 | I18: =49.2*20/100 -> 9.84 | J18: =49.2*25/100 -> 12.3 | K18: =235*20/100 -> 47 | L18: =235*25/100 -> 58.75 | M18: 0 | N18: 0 | O18: т-6
B19: Хлеб ржаной (ржано-пшеничный) | C19: 17 | D19: 21 | E19: =5.6*17/100 -> 0.952 | F19: =5.6*21/100 -> 1.176 | G19: =1.1*17/100 -> 0.187 | H19: =1.1*21/100 -> 0.231 | I19: =49.4*17/100 -> 8.398 | J19: =49.4*17/100 -> 8.398 | K19: =232*17/100 -> 39.44 | L19: =232*21/100 -> 48.72 | M19: 0 | N19: 0 | O19: т-6
A20: Полдник | B20: Птица, тушенная в соусе | C20: 180 | D20: 230 | E20: 9.37 | F20: 12.32 | G20: 2.28 | H20: 3.02 | I20: 16.49 | J20: 20.88 | K20: 124 | L20: 160 | M20: 7.34 | N20: 9.24 | O20: 302
B21: Хлеб ржаной (ржано-пшеничный) | C21: 17 | D21: 21 | E21: =5.6*17/100 -> 0.952 | F21: =5.6*21/100 -> 1.176 | G21: =1.1*17/100 -> 0.187 | H21: =1.1*21/100 -> 0.231 | I21: =49.4*17/100 -> 8.398 | J21: =49.4*17/100 -> 8.398 | K21: =232*17/100 -> 39.44 | L21: =232*21/100 -> 48.72 | M21: 0 | N21: 0 | O21: т-6
B22: Молоко кипяченое | C22: 150 | D22: 180 | E22: 4.58 | F22: 5.48 | G22: 4.08 | H22: 4.88 | I22: 7.58 | J22: 9.07 | K22: 85 | L22: 102 | M22: 2.05 | N22: 2.46 | O22: 400
B23: Коржики молочные | C23: 50 | D23: 50 | E23: =4.89*50/75 -> 3.26 | F23: =4.89*50/75 -> 3.26 | G23: =8.43*50/75 -> 5.62 | H23: =8.43*50/75 -> 5.62 | I23: =46.48*50/75 -> 30.986667 | J23: =46.48*50/75 -> 30.986667 | K23: =281*50/75 -> 187.33333 | L23: =281*50/75 -> 187.33333 | M23: =0.05*50/75 -> 0.033333333 | N23: =0.05*50/75 -> 0.033333333 | O23: 496
A24: Итого: | E24: =SUM(E8:E23) -> 58.2717 | F24: =SUM(F8:F23) -> 75.2071 | G24: =SUM(G8:G23) -> 49.2765 | H24: =SUM(H8:H23) -> 60.3362 | I24: =SUM(I8:I23) -> 225.05747 | J24: =SUM(J8:J23) -> 269.05227 | K24: =SUM(K8:K23) -> 1582.7967 | L24: =SUM(L8:L23) -> 1944.9167 | ... N24: =SUM(N8:N23) -> 34.839633
A25: день 2-й
A26: прием пищи | B26: Наименование | C26: Выход | E26: Пищевые вещества (г) | K26: Энергетическая ценность (ккал) | M26: Витамин С | O26: № рецептуры
B27: блюда | C27: блюда | E27: Б | G27: Ж | I27: У
C28: ясли | D28: сад | E28: ясли | F28: сад | G28: ясли | H28: сад | I28: ясли | J28: сад | K28: ясли | L28: сад | M28: ясли | N28: сад
A29: Завтрак | B29: Пудинг из творога | C29: 90 | D29: 100 | E29: =15.14*90/100 -> 13.626 | F29: 15.14 | G29: =10.76*90/100 -> 9.684 | H29: 10.76 | I29: =12.17*90/50 -> 21.906 | J29: 24.33 | K29: =127*90/50 -> 228.6 | L29: 255 | M29: =0.1*90/50 -> 0.18 | N29: 0.19 | O29: 235
B30: Соус молочный сладкий | C30: 30 | D30: 30 | E30: =19.43*30/1000 -> 0.5829 | F30: =19.43*30/1000 -> 0.5829 | G30: =45.19*30/1000 -> 1.3557 | H30: =45.19*30/1000 -> 1.3557 | I30: =132.55*30/1000 -> 3.9765 | J30: =132.55*30/1000 -> 3.9765 | K30: =1015*30/1000 -> 30.45 | L30: =1015*30/1000 -> 30.45 | M30: =3.25*15/1000 -> 0.04875 | N30: =3.25*15/1000 -> 0.04875 | O30: 351
B31: Чай с молоком | C31: 150 | D31: 180 | E31: 2.65 | F31: 2.67 | G31: 2.33 | H31: 2.34 | I31: 11.31 | J31: 14.31 | K31: 77 | L31: 89 | M31: 1.19 | N31: 1.2 | O31: 394
B32: Батон нарезной | C32: 24 | D32: 30 | E32: =7.5*24/100 -> 1.8 | F32: =7.5*30/100 -> 2.25 | G32: =2.9*24/1000 -> 0.0696 | H32: =2.9*30/1000 -> 0.087 | I32: =51.4*24/100 -> 12.336 | J32: =51.4*30/100 -> 15.42 | K32: =262*24/100 -> 62.88 | L32: =262*30/100 -> 78.6 | M32: =0 -> 0 | N32: 0 | O32: 111/2
A33: 2-й завтрак | B33: Фрукт | C33: 100 | D33: 100 | E33: 0.4 | F33: 0.4 | G33: 0.4 | H33: 0.4 | I33: 9.8 | J33: 9.8 | K33: 44 | L33: 44 | M33: 10 | N33: 10 | O33: 368
A34: Обед | B34: Огурец свежий | C34: 45 | D34: 0 | E34: =1.1*45/100 -> 0.495 | F34: 0 | G34: =0.2*45/100 -> 0.09 | H34: 0 | I34: =3.8*45/100 -> 1.71 | J34: 0 | K34: =24*45/100 -> 10.8 | L34: 0 | M34: =25*45/100 -> 11.25 | N34: 0 | O34: 106/2
B35: Салат из горошка зеленого консервированного | C35: 0 | D35: 60 | E35: 0 | F35: =29.82*60/1000 -> 1.7892 | G35: 0 | H35: =51.89*60/1000 -> 3.1134 | I35: 0 | J35: =62.51*60/1000 -> 3.7506 | K35: 0 | L35: =836*60/1000 -> 50.16 | M35: 0 | N35: =110*60/1000 -> 6.6 | O35: 10
B36: Щи из свежей капусты | C36: 200/10/10 | D36: 250/10/10 | E36: =6.96*200/1000+0.24 -> 1.632 | F36: =6.96*250/1000+0.24 -> 1.98 | G36: =19.54*200/1000+2.5 -> 6.408 | H36: =19.54*250/1000+2.5 -> 7.385 | I36: =33.93*200/1000+25 -> 31.786 | J36: =33.93*250/1000+25 -> 33.4825 | K36: =339*200/1000 -> 67.8 | L36: =339*250/1000 -> 84.75 | M36: =73.86*200/1000+0.03 -> 14.802 | N36: =73.86*250/1000+0.03 -> 18.495 | O36: 67
B37: Котлета мясная | C37: 50 | D37: 60 | E37: =8.94*50/60 -> 7.45 | F37: 8.94 | G37: =6.74*50/60 -> 5.6166667 | H37: 6.74 | I37: =8.97*50/60 -> 7.475 | J37: 8.97 | K37: =132*50/60 -> 110 | L37: 132 | M37: 0 | N37: 0 | O37: 282
B38: Картофель, тушеный в соусе | C38: 100 | D38: 150 | E38: =3.22*100/150 -> 2.1466667 | F38: 3.22 | G38: 5.93 | H38: 9.36 | I38: =23.29*100/150 -> 15.526667 | J38: 23.29 | K38: 124 | L38: 190 | M38: 7.28 | N38: 10.91 | O38: 133
B39: Комот из сушеных фруктов(чернослив) | C39: 150 | D39: 180 | E39: =2.2*150/1000 -> 0.33 | F39: =2.2*180/1000 -> 0.396 | G39: =0.1*150/1000 -> 0.015 | H39: =0.1*180/1000 -> 0.018 | I39: =138.84*150/1000 -> 20.826 | J39: =138.84*180/1000 -> 24.9912 | K39: =565*120/150 -> 452 | L39: =565*180/150 -> 678 | M39: =2*150/1000 -> 0.3 | N39: =2*180/1000 -> 0.36 | O39: 376
B40: Хлеб пшеничный | C40: 20 | D40: 25 | E40: =7.6*20/100 -> 1.52 | F40: =7.6*25/100 -> 1.9 | G40: =0.8*20/1000 -> 0.016 | H40: =0.8*25/1000 -> 0.02 | I40: =49.2*20/100 -> 9.84 | J40: =49.2*25/100 -> 12.3 | K40: =235*20/100 -> 47 | L40: =235*25/100 -> 58.75 | M40: 0 | N40: 0 | O40: т-6
...

Sheet н факт 1-3
B1: Ведомость контроля за рационом питания | J1: 1-3 лет на 10,5 час 85%; | N1: 2022год
D2: по сан-м 2021года | E2: Фактически выдано в нетто по дням | O2: В среднем за | P2: отклонение %
A3: № п/п | B3: Наименование продуктов | C3: Ед. изм. | O3: 10 дней
D4: нетто | E4: 1-й день | F4: 2-й день | G4: 3-й день | H4: 4-й день | I4: 5-й день | J4: 6-й день | K4: 7-й день | L4: 8-й день | M4: 9-й день | N4: 10-й день
A5: 1 | B5: Хлеб ржаной | C5: гр. | D5: =40*85/100 -> 34 | E5: =перерасчет!E45+перерасчет!E59 -> 34 | F5: =перерасчет!D136+перерасчет!D154 -> 34 | G5: =перерасчет!E199+перерасчет!E215 -> 34 | H5: =перерасчет!E255+перерасчет!E267 -> 34 | I5: =перерасчет!E324+перерасчет!E344 -> 34 | J5: =перерасчет!E399+перерасчет!E417 -> 34 | K5: =перерасчет!E485+перерасчет!E508 -> 34 | L5: =перерасчет!E561+перерасчет!E578 -> 34 | M5: =перерасчет!E636+перерасчет!E645 -> 34 | N5: =перерасчет!E702+перерасчет!E737 -> 34 | O5: =SUM(E5:N5)/10 -> 34 | P5: =O5/D5%-100 -> 0
A6: 2 | B6: Хлеб в/сорт | C6: гр. | D6: =60*85/100 -> 51 | E6: =перерасчет!E10+перерасчет!E44 -> 44 | F6: =перерасчет!D92+перерасчет!D115+перерасчет!D135+перерасчет!D85+перерасчет!D117 -> 66.582667 | G6: =перерасчет!E164+перерасчет!E198 -> 44 | H6: =перерасчет!E223+перерасчет!E254 -> 44 | I6: =перерасчет!E323+перерасчет!E277+перерасчет!E309 -> 53.166667 | J6: =перерасчет!E398+перерасчет!E355 -> 44 | K6: =перерасчет!E437+перерасчет!D484+перерасчет!E429+перерасчет!D429+перерасчет!E468 -> 64.24 | L6: =перерасчет!E517+перерасчет!E560 -> 44 | M6: =перерасчет!E587+перерасчет!E635 -> 30 | N6: =перерасчет!E653+перерасчет!D685+перерасчет!E701 -> 56.74 | O6: =SUM(E6:N6)/10 -> 49.072933 | P6: =O6/D6%-100 -> -3.7785621
A7: 3 | B7: Мука пшеничная | C7: гр. | D7: =25*85/100 -> 21.25 | E7: =перерасчет!E36+перерасчет!D57+перерасчет!E61+перерасчет!E60 -> 32.95 | F7: =перерасчет!D78+перерасчет!D88+перерасчет!D129+перерасчет!D149 -> 12.3 | G7: =перерасчет!E190 -> 3.8 | H7: =перерасчет!E257 -> 3.7 | I7: =перерасчет!E294+перерасчет!E295+перерасчет!E318+перерасчет!E272 -> 30.752 | J7: =перерасчет!E414+перерасчет!E351 -> 25.05 | K7: =перерасчет!E425+перерасчет!E470+перерасчет!E475+перерасчет!#REF!+перерасчет!E587 -> #REF! | L7: =перерасчет!E549+перерасчет!E572+36 -> 40.125 | M7: =перерасчет!E614+перерасчет!E620+перерасчет!E630 -> 10.833333 | N7: =перерасчет!E727+перерасчет!E726+перерасчет!E715 -> 35.05 | O7: =SUM(E7:N7)/10 -> #REF! | P7: =O7/D7%-100 -> #REF!
A8: 4 | B8: Мука картофельная(крахмал) | C8: гр. | D8: =2*85/100 -> 1.7 | E8: 0 | F8: 0 | G8: =перерасчет!E209 -> 3 | H8: =перерасчет!E251 -> 3.75 | I8: 0 | J8: 2.7 | K8: =0 -> 0 | L8: =перерасчет!E559 -> 6.75 | M8: 0 | N8: =0 -> 0 | O8: =SUM(E8:N8)/10 -> 1.62 | P8: =O8/D8%-100 -> -4.7058824
A9: 5 | B9: Крупа, бобовые | C9: гр. | D9: =30*85/100 -> 25.5 | E9: =перерасчет!E40+перерасчет!E28+перерасчет!E6 -> 78.032 | F9: =0 -> 0 | G9: =перерасчет!E161+перерасчет!E181 -> 38 | H9: =0 -> 0 | I9: =перерасчет!D289 -> 6.93 | J9: =перерасчет!E394 -> 35 | K9: =перерасчет!D487 -> 19 | L9: =перерасчет!G531+перерасчет!F564 -> 8 | M9: =перерасчет!D609+20 -> 24.166667 | N9: =перерасчет!E648 -> 33.3 | O9: =SUM(E9:N9)/10 -> 24.242867 | P9: =O9/D9%-100 -> -4.9299346
A10: 6 | B10: Картофель свеж | C10: гр. | D10: =120*85/100 -> 102 | E10: =перерасчет!E25+перерасчет!E47 -> 119 | F10: =перерасчет!E103+перерасчет!E120 -> 119.2 | G10: =перерасчет!E177+перерасчет!E201 -> 142 | H10: =перерасчет!E230 -> 21.6 | I10: =перерасчет!E329+перерасчет!E284 -> 42 | J10: =перерасчет!E363+перерасчет!E372 -> 92.25 | K10: =перерасчет!E445+перерасчет!E457 -> 123.6 | L10: =перерасчет!E527+перерасчет!E543 -> 104 | M10: =перерасчет!E593 -> 11.25 | N10: =перерасчет!E703+перерасчет!E688+перерасчет!E667 -> 158.6 | O10: =SUM(E10:N10)/10 -> 93.35 | P10: =O10/D10%-100 -> -8.4803922
A11: 7 | B11: Овощи свеж, зелень | C11: гр. | D11: =180*85/100 -> 153 | E11: =перерасчет!E18+перерасчет!E22+перерасчет!E29+перерасчет!E35+перерасчет!E38+перерасчет!E46+перерасчет!E53+перерасчет!E19+перерасчет!E20+перерасчет!E54 -> 124.4 | F11: =перерасчет!E98+перерасчет!E99+перерасчет!E100+перерасчет!E107+перерасчет!E108+перерасчет!E109+перерасчет!E110+перерасчет!E125+перерасчет!E126+перерасчет!E138 -> 192.3 | G11: 66.4 | H11: =перерасчет!E227+перерасчет!E247+перерасчет!E248+перерасчет!D234+перерасчет!E229+перерасчет!G235+перерасчет!G236 -> 103.84 | I11: =перерасчет!E288+перерасчет!E289+перерасчет!E290+перерасчет!E291+перерасчет!E300+перерасчет!E301+перерасчет!E312+перерасчет!E314+перерасчет!E315+перерасчет!E316+перерасчет!E317+перерасчет!E333+перерасчет!E334+перерасчет!E335+перерасчет!E336 -> 235.266 | J11: =перерасчет!E367+перерасчет!E368+перерасчет!E369+перерасчет!E370+перерасчет!E376+перерасчет!E377+перерасчет!E378+перерасчет!E381+перерасчет!E391+перерасчет!E392+перерасчет!E393 -> 59.44 | K11: =перерасчет!E442+перерасчет!E444+перерасчет!E449+перерасчет!E450+перерасчет!E453+перерасчет!E480+перерасчет!E488+перерасчет!E493+перерасчет!E494+перерасчет!E495+перерасчет!E496+перерасчет!E478 -> 151.73 | L11: =перерасчет!E523+перерасчет!E533+перерасчет!E534+перерасчет!E535+перерасчет!E542+перерасчет!E547+перерасчет!E548+перерасчет!E550+перерасчет!E562+перерасчет!E565+перерасчет!E574 -> 131.4 | M11: =перерасчет!E597+перерасчет!E598+перерасчет!E599+перерасчет!#REF!+перерасчет!E605+перерасчет!E622+перерасчет!E624+перерасчет!E627+перерасчет!E628+перерасчет!E629+перерасчет!E611 -> #REF! | N11: =перерасчет!E660+перерасчет!E662+перерасчет!E666+перерасчет!E671+перерасчет!E672+перерасчет!E673+перерасчет!E681+перерасчет!E682+перерасчет!E706+перерасчет!E707+перерасчет!E708+перерасчет!E709+перерасчет!E710+перерасчет!E711+перерасчет!E716+перерасчет!E717+перерасчет!E718+перерасчет!E719+перерасчет!E663 -> 160.85 | O11: =SUM(E11:N11)/10 -> #REF! | P11: =O11/D11%-100 -> #REF!
A12: 8 | B12: Фрукты свежие | C12: гр. | D12: =95*85/100 -> 80.75 | E12: =перерасчет!E73+перерасчет!E74 -> 0 | F12: =перерасчет!E97+перерасчет!D132 -> 110 | G12: 0 | H12: =перерасчет!E226 -> 150 | I12: =перерасчет!G343 -> 0 | J12: =перерасчет!D395+40 -> 74.05 | K12: =перерасчет!E481+перерасчет!E441+перерасчет!E431 -> 131.75 | L12: =перерасчет!E553 -> 15 | M12: =перерасчет!E592 -> 150 | N12: =перерасчет!E659 -> 95 | O12: =SUM(E12:N12)/10 -> 72.58 | P12: =O12/D12%-100 -> -10.117647
A13: 9 | B13: Фрукты сухие | C13: гр. | D13: =9*85/100 -> 7.65 | E13: =перерасчет!E42 -> 15 | F13: =перерасчет!E81 -> 9 | G13: =перерасчет!D195 -> 10 | H13: =0 -> 0 | I13: =перерасчет!E320-4 -> 11 | J13: =0 -> 0 | K13: =0 -> 0 | L13: =0 -> 0 | M13: =перерасчет!E632 -> 10 | N13: 15 | O13: =SUM(E13:N13)/10 -> 7 | P13: =O13/D13%-100 -> -8.496732
A14: 10 | B14: Кондит.изделия | C14: гр. | D14: =12*85/100 -> 10.2 | E14: 0 | F14: =0 -> 0 | G14: =0 -> 0 | H14: =перерасчет!E265 -> 20 | I14: =перерасчет!E342 -> 15 | J14: =перерасчет!E420 -> 12 | K14: =перерасчет!E498 -> 12 | L14: =перерасчет!E576 -> 0 | M14: =перерасчет!E644 -> 20 | N14: 0 | O14: =SUM(E14:N14)/10 -> 7.9 | P14: =O14/D14%-100 -> -22.54902
A15: 11 | B15: Сахар | C15: гр. | D15: =25*85/100 -> 21.25 | E15: =перерасчет!E7+перерасчет!E14+перерасчет!E43+перерасчет!E62-10 -> 24.35 | F15: =перерасчет!E80+перерасчет!E90+перерасчет!E133+перерасчет!E95 -> 31.6 | G15: =перерасчет!E162+перерасчет!E167+перерасчет!E196+перерасчет!E191 -> 58.75 | H15: =перерасчет!E252+перерасчет!E260 -> 23 | I15: =перерасчет!E274+перерасчет!E281+перерасчет!E321+перерасчет!E319 -> 23 | J15: =перерасчет!E352+перерасчет!E359+перерасчет!E396 -> 28 | K15: =перерасчет!E432+перерасчет!E426+перерасчет!E440+перерасчет!E454+перерасчет!E482-20 -> 14.65 | L15: =перерасчет!E558 -> 15 | M15: =перерасчет!E631+перерасчет!E634 -> 11 | N15: =перерасчет!D652+перерасчет!D657+перерасчет!D665+перерасчет!D675+перерасчет!D699+перерасчет!D721+перерасчет!D731 -> 27.74 | O15: =SUM(E15:N15)/10 -> 25.709 | P15: =O15/D15%-100 -> 20.983529
A16: 12 | B16: Масло сливочное | C16: гр. | D16: =18*85/100 -> 15.3 | E16: =перерасчет!E8+перерасчет!E41+перерасчет!E55+перерасчет!E63 -> 14.895 | F16: =перерасчет!E87+перерасчет!E119+перерасчет!E141+перерасчет!E148+перерасчет!E152+перерасчет!E83 -> 20.4 | G16: 16.9 | H16: =перерасчет!E220+перерасчет!E222+перерасчет!E249+перерасчет!E224-20 -> 0.5 | I16: =перерасчет!E273+перерасчет!E311 -> 6.6666667 | J16: =перерасчет!E354+перерасчет!E356+перерасчет!E401+перерасчет!E410+перерасчет!E413 -> 14.95 | K16: =перерасчет!E428+перерасчет!E463+перерасчет!E479+перерасчет!E489 -> 12.5 | L16: =перерасчет!E513+перерасчет!E517+перерасчет!E551 -> 34.175 | M16: =перерасчет!E585+перерасчет!E612+перерасчет!E616+перерасчет!E642 -> 13.333333 | N16: =перерасчет!E651+перерасчет!E694+перерасчет!E720+перерасчет!E729+перерасчет!E714+перерасчет!E687 -> 17 | O16: =SUM(E16:N16)/10 -> 15.132 | P16: =O16/D16%-100 -> -1.0980392
A17: 13 | B17: Масло растительное | C17: гр. | D17: =9*85/100 -> 7.65 | E17: =перерасчет!E31+перерасчет!E34+перерасчет!E69+перерасчет!E21 -> 5.6633333 | F17: =перерасчет!E102+перерасчет!E111+перерасчет!E118+перерасчет!E124+перерасчет!E145 -> 12.333333 | G17: =перерасчет!E183+перерасчет!E208 -> 4 | H17: =перерасчет!E259+перерасчет!E228+перерасчет!E237 -> 10.33 | I17: =перерасчет!E302+перерасчет!E313+перерасчет!E338+перерасчет!E292-3 -> 8.5 | J17: =перерасчет!E379+перерасчет!E371 -> 4.25 | K17: =перерасчет!E443+перерасчет!E452+перерасчет!E471+перерасчет!E497 -> 7.325 | L17: =перерасчет!E515+перерасчет!E536+перерасчет!E566-5 -> 5.8 | M17: =перерасчет!E601+перерасчет!E625 -> 8.7 | N17: =перерасчет!E664+перерасчет!E674+перерасчет!E686 -> 7.1 | O17: =SUM(E17:N17)/10 -> 7.4001667 | P17: =O17/D17%-100 -> -3.2657952
A18: 14 | B18: Чай в/с | C18: гр. | D18: =0.5*85/100 -> 0.425 | E18: =0.5*85/100 -> 0.425 | F18: =0.5*85/100 -> 0.425 | G18: =0.5*85/100 -> 0.425 | H18: =0.5*85/100 -> 0.425 | I18: =0.5*85/100 -> 0.425 | J18: =0.5*85/100 -> 0.425 | K18: =0.5*85/100 -> 0.425 | ... O18: =0.5*85/100 -> 0.425 | P18: =O18/D18%-100 -> 0
A19: 15 | B19: Мясо, мясопродукты | C19: гр. | D19: =50*85/100 -> 42.5 | E19: =перерасчет!E33-20 -> 60.833333 | F19: =перерасчет!E114 -> 36.666667 | G19: =перерасчет!E186 -> 80 | H19: =перерасчет!E246 -> 80.833333 | I19: 0 | J19: =перерасчет!E380 -> 22.8 | K19: =перерасчет!E455 -> 16 | L19: =перерасчет!E540+перерасчет!E563 -> 102.5 | M19: =перерасчет!E608 -> 31.666667 | N19: =0 -> 0 | O19: =SUM(E19:N19)/10 -> 43.13 | P19: =O19/D19%-100 -> 1.4823529
A20: 16 | B20: Рыба свеж, сельдь сол | C20: гр. | D20: =32*85/100 -> 27.2 | E20: =перерасчет!D23*2 -> 48 | F20: 0 | G20: =перерасчет!D200 -> 0 | H20: =0 -> 0 | I20: =перерасчет!E325 -> 37 | J20: =перерасчет!E403 -> 49 | K20: =перерасчет!E465 -> 41 | L20: 0 | M20: 0 | N20: =перерасчет!E677 -> 59.5 | O20: =SUM(E20:N20)/10 -> 23.45 | P20: =O20/D20%-100 -> -13.786765
A21: 17 | B21: Молоко и кисломолочные продукты | C21: гр. | D21: =390*85/100 -> 331.5 | E21: =перерасчет!D3+перерасчет!D71+перерасчет!E15+перерасчет!E5 -> 439.2 | F21: =перерасчет!E153+перерасчет!E147+перерасчет!E86+перерасчет!G116+перерасчет!G96 -> 250.25 | G21: =перерасчет!E158+перерасчет!E168+перерасчет!E212 -> 201.4 | H21: =перерасчет!E219+перерасчет!E225+перерасчет!E266 -> 184.325 | I21: =перерасчет!E271+перерасчет!E282+перерасчет!E310 -> 249.93333 | J21: =перерасчет!E348+перерасчет!E360+перерасчет!E408+перерасчет!E412+перерасчет!E350 -> 363.41 | K21: =перерасчет!E507+перерасчет!E469+перерасчет!E461 -> 184 | L21: =перерасчет!E520+перерасчет!E577+перерасчет!E512 -> 221.125 | M21: =перерасчет!E583+перерасчет!E591+перерасчет!E643 -> 171.2 | N21: =перерасчет!E649+перерасчет!E658+перерасчет!E683+перерасчет!E692+перерасчет!E692+перерасчет!E738 -> 404 | O21: =SUM(E21:N21)/10 -> 266.88433 | P21: =O21/D21%-100 -> -19.491905
A22: 18 | B22: Творог, творожки | C22: гр. | D22: =30*85/100 -> 25.5 | E22: 0 | F22: =перерасчет!E77 -> 67.5 | G22: 0 | H22: =перерасчет!E256 -> 45 | I22: 0 | J22: 0 | K22: =перерасчет!E424 -> 92 | L22: 0 | M22: =перерасчет!E637 -> 46.74 | N22: 0 | O22: =SUM(E22:N22)/10 -> 25.124 | P22: =O22/D22%-100 -> -1.4745098
A23: 19 | B23: Сметана | C23: гр. | D23: =9*85/100 -> 7.65 | E23: =перерасчет!E56 -> 7.5 | F23: =перерасчет!E84+перерасчет!E113+перерасчет!E128 -> 19.6 | G23: =0 -> 0 | H23: =0 -> 0 | I23: 0 | J23: 0 | K23: =перерасчет!E430+перерасчет!E456+перерасчет!E474 -> 17.375 | L23: =перерасчет!E571 -> 3.75 | M23: =перерасчет!E619 -> 15 | N23: =перерасчет!E676 -> 10 | O23: =SUM(E23:N23)/10 -> 7.3225 | P23: =O23/D23%-100 -> -4.2810458
A24: 20 | B24: Сыр твер., колбасный | C24: гр. | D24: =4*85/100 -> 3.4 | E24: =перерасчет!E11 -> 0 | F24: 0 | G24: =перерасчет!E165 -> 5 | H24: =перерасчет!E221-5 -> 7.9 | I24: =перерасчет!E278 -> 5 | J24: =перерасчет!E357-5 -> -5 | K24: =0 -> 0 | L24: =перерасчет!E518 -> 5 | M24: 0 | N24: =0 -> 0 | O24: =SUM(E24:N24)/10 -> 1.79 | P24: =O24/D24%-100 -> -47.352941
A25: 21 | B25: Яйцо | C25: шт | D25: =40*85/100 -> 34 | E25: =+перерасчет!E67+перерасчет!E70 -> 1.46 | F25: =перерасчет!E79+перерасчет!E144 -> 14.5 | G25: =0 -> 0 | H25: =перерасчет!E258+перерасчет!E218 -> 92.8 | I25: =перерасчет!E296+перерасчет!E337 -> 9 | J25: =перерасчет!E382+перерасчет!E409 -> 6.6 | K25: =перерасчет!E427+перерасчет!E490+перерасчет!E491+перерасчет!E501 -> 15.725 | L25: =перерасчет!E568+перерасчет!E511 -> 114.5 | M25: =перерасчет!E604+перерасчет!E607+перерасчет!E640 -> 46 | N25: =перерасчет!E684+перерасчет!E730+перерасчет!E731 -> 7.9285714 | O25: =SUM(E25:N25)/10 -> 30.851357 | P25: =O25/D25%-100 -> -9.2607143
A26: 22 | B26: Кофе злаковый, какао | C26: гр. | D26: =1.5*85/100 -> 1.275 | E26: =перерасчет!E13 -> 2 | F26: =0 -> 0 | G26: =перерасчет!E166 -> 2 | H26: 0 | I26: 0 | J26: =перерасчет!E358 -> 2 | K26: 3 | L26: =перерасчет!E519 -> 2 | M26: =перерасчет!E588 -> 2 | N26: 0 | O26: =SUM(E26:N26)/10 -> 1.3 | P26: =O26/D26%-100 -> 1.9607843
A27: 23 | B27: Соль | C27: гр. | D27: =3*85/100 -> 2.55 | E27: 2.6 | F27: 2.6 | G27: 2.6 | H27: 2.6 | I27: 2.6 | J27: 2.6 | K27: 2.6 | L27: 2.6 | M27: 2.6 | N27: 2.6 | O27: =SUM(E27:N27)/10 -> 2.6 | P27: =O27/D27%-100 -> 1.9607843
A28: 24 | B28: Дрожжи | C28: гр. | D28: =0.4*85/100 -> 0.34 | E28: =0.4*85/100 -> 0.34 | F28: =0.4*85/100 -> 0.34 | G28: =0.4*85/100 -> 0.34 | H28: =0.4*85/100 -> 0.34 | I28: =0.4*85/100 -> 0.34 | J28: =0.4*85/100 -> 0.34 | K28: =0.4*85/100 -> 0.34 | ... O28: =0.4*85/100 -> 0.34 | P28: =O28/D28%-100 -> 0
A29: 25 | B29: Птица | C29: гр. | D29: =20*85/100 -> 17 | E29: =перерасчет!E52 -> 44 | F29: =перерасчет!E112+перерасчет!E142-20 -> 31.666667 | G29: =0 -> 0 | H29: =перерасчет!E241 -> 0 | I29: 0 | J29: =перерасчет!E387-20 -> 48.333333 | K29: 0 | L29: 0 | M29: =перерасчет!E603 -> 11.333333 | N29: =перерасчет!E724-40-20 -> 22 | O29: =SUM(E29:N29)/10 -> 15.733333 | P29: =O29/D29%-100 -> -7.4509804
A30: 27 | B30: Соки | C30: л | D30: =100*85/100 -> 85 | E30: =перерасчет!E17 -> 200 | F30: 0 | G30: =перерасчет!E171 -> 200 | H30: =перерасчет!E250 -> 45 | I30: =перерасчет!E283 -> 200 | J30: =перерасчет!E362 -> 200 | K30: 0 | L30: =перерасчет!E522 -> 200 | M30: 0 | N30: 0 | O30: =SUM(E30:N30)/10 -> 104.5 | P30: =O30/D30%-100 -> 22.941176
A31: 28 | B31: Напитки витаминизированные (готовый напиток) | D31: 0 | E31: 0 | F31: 0 | G31: 0 | H31: 0 | I31: 0 | J31: 0 | K31: 0 | L31: 0 | M31: 0 | N31: 0 | O31: =SUM(E31:N31)/10 -> 0 | P31: 0
A32: 29 | B32: Макаронный изделия | C32: гр. | D32: =8*85/100 -> 6.8 | E32: 0 | F32: 0 | G32: =перерасчет!E193 -> 38.5 | H32: 0 | I32: 0 | J32: =перерасчет!E400 -> 42 | K32: =0 -> 0 | L32: 0 | M32: 0 | N32: 0 | O32: =SUM(E32:N32)/10 -> 8.05 | P32: =D32-O32 -> -1.25
A33: 30 | B33: Субпродукты (печень) | D33: =20*85/100 -> 17 | E33: =перерасчет!E33-20 -> 60.833333 | F33: 0 | K33: =перерасчет!D486 -> 113 | O33: =SUM(E33:N33)/10 -> 17.383333 | P33: =D33-O33 -> -0.38333333

Sheet н факт3-7
B1: Ведомость контроля за рационом питания | J1: 3-7 лет на 10,5 час 85%; | N1: 2022год
D2: по сан-м 2021года | E2: Фактически выдано в нетто по дням | O2: В среднем за
A3: № п/п | B3: Наименование продуктов | C3: Ед. изм. | O3: за10 дней | P3: %
D4: нетто | E4: 1-й день | F4: 2-й день | G4: 3-й день | H4: 4-й день | I4: 5-й день | J4: 6-й день | K4: 7-й день | L4: 8-й день | M4: 9-й день | N4: 10-й день
A5: 1 | B5: Хлеб ржаной | C5: гр. | D5: =50*85/100 -> 42.5 | E5: =перерасчет!G45+перерасчет!G59 -> 42 | F5: =перерасчет!G136+перерасчет!G154 -> 42 | G5: =перерасчет!G199+перерасчет!G215 -> 42 | H5: =перерасчет!G267+перерасчет!G255 -> 42 | I5: =перерасчет!G324+перерасчет!G344 -> 42 | J5: =перерасчет!G399+перерасчет!G417 -> 42 | K5: =перерасчет!G485+перерасчет!G508 -> 42 | L5: =перерасчет!G561+перерасчет!G578 -> 42 | M5: =перерасчет!G636+перерасчет!E645 -> 38 | N5: =перерасчет!G702+перерасчет!G737 -> 42 | O5: =SUM(E5:N5)/10 -> 41.6 | P5: =O5/D5%-100 -> -2.1176471
A6: 2 | B6: Хлеб в/сорт | C6: гр. | D6: =80*85/100 -> 68 | E6: =перерасчет!G10+перерасчет!G44 -> 55 | F6: =перерасчет!G135+перерасчет!G115+перерасчет!G92+перерасчет!F85+перерасчет!F117 -> 81.6 | G6: =перерасчет!G164+перерасчет!G198 -> 55 | H6: =перерасчет!G223+перерасчет!G254 -> 55 | I6: =перерасчет!G323+перерасчет!G277+перерасчет!G309 -> 66 | J6: =перерасчет!G355+перерасчет!F398 -> 55 | K6: =перерасчет!G484+перерасчет!G468+перерасчет!F429+перерасчет!E437 -> 68.24 | L6: =перерасчет!G516+перерасчет!G560+перерасчет!G511-20 -> 127.5 | M6: =перерасчет!G635+перерасчет!G587 -> 40 | N6: =перерасчет!G653+перерасчет!F685+перерасчет!F701 -> 74 | O6: =SUM(E6:N6)/10 -> 67.734 | P6: =O6/D6%-100 -> -0.39117647
A7: 3 | B7: Мука пшеничная | C7: гр. | D7: =29*85/100 -> 24.65 | E7: =перерасчет!G36+перерасчет!G57+перерасчет!E61+перерасчет!E67+перерасчет!G60 -> 34.85 | F7: =перерасчет!G78+перерасчет!G129+перерасчет!G149 -> 12.85 | G7: =перерасчет!G190 -> 3.8 | H7: =перерасчет!G257 -> 7.4 | I7: =перерасчет!G294+перерасчет!G295+перерасчет!G318+перерасчет!G272 -> 36.46 | J7: =перерасчет!G414+перерасчет!G351 -> 27 | K7: =перерасчет!G425+перерасчет!G471+перерасчет!G475+перерасчет!G498 -> 23.025 | L7: =перерасчет!G549+перерасчет!G572+25 -> 31.25 | M7: =перерасчет!G614+перерасчет!G620+перерасчет!G630 -> 13 | N7: =перерасчет!G727+перерасчет!G726+перерасчет!G715 -> 35.825 | O7: =SUM(E7:N7)/10 -> 22.546 | P7: =O7/D7%-100 -> -8.535497
A8: 4 | B8: Мука картофельная(крахмал) | C8: гр. | D8: =3*85/100 -> 2.55 | E8: 0 | F8: 0 | G8: =перерасчет!G209 -> 4 | H8: =перерасчет!G251 -> 4.5 | I8: =0 -> 0 | J8: 5 | K8: 0 | L8: =перерасчет!G559 -> 8.1 | M8: 4 | N8: 0 | O8: =SUM(E8:N8)/10 -> 2.56 | P8: =O8/D8%-100 -> 0.39215686
A9: 5 | B9: Крупа, бобовые | C9: гр. | D9: =43*85/100 -> 36.55 | E9: =перерасчет!G40+перерасчет!G28+перерасчет!G6 -> 106.158 | F9: 0 | G9: =перерасчет!G161+перерасчет!G181 -> 44.4 | H9: 0 | I9: =перерасчет!F289 -> 11.55 | J9: =перерасчет!G394 -> 46 | K9: =перерасчет!F487 -> 23 | L9: =перерасчет!E531+перерасчет!D564+30 -> 36.6 | M9: =перерасчет!F609 -> 5 | N9: =перерасчет!G648 -> 44.4 | O9: =SUM(E9:N9)/10 -> 31.7108 | P9: =O9/D9%-100 -> -13.239945
A10: 6 | B10: Картофель свеж | C10: гр. | D10: =140*85/100 -> 119 | E10: =перерасчет!G24+перерасчет!G47 -> 147.4 | F10: =перерасчет!G120+перерасчет!G103 -> 141.2 | G10: =перерасчет!G177+перерасчет!G201 -> 184 | H10: =перерасчет!G230 -> 54 | I10: =перерасчет!G329+перерасчет!G284 -> 60 | J10: =перерасчет!G363+перерасчет!G372 -> 99 | K10: =перерасчет!E457+перерасчет!E445 -> 123.6 | L10: =перерасчет!G527+перерасчет!G543 -> 127 | M10: =перерасчет!G593 -> 15 | N10: =перерасчет!G667+перерасчет!G703 -> 70 | O10: =SUM(E10:N10)/10 -> 102.12 | P10: =O10/D10%-100 -> -14.184874
A11: 7 | B11: Овощи свеж, зелень | C11: гр. | D11: =220*85/100 -> 187 | E11: =перерасчет!G18+перерасчет!G22+перерасчет!G29+перерасчет!G30+перерасчет!G35+перерасчет!G38+перерасчет!G46+перерасчет!G53+перерасчет!F39+перерасчет!G19+перерасчет!G54+перерасчет!G20 -> 161.09 | F11: =перерасчет!G98+перерасчет!G99+перерасчет!G100+перерасчет!G107+перерасчет!G108+перерасчет!G109+перерасчет!G110+перерасчет!G125+перерасчет!G126+перерасчет!G138 -> 256.06 | G11: 95.8 | H11: =перерасчет!G227+перерасчет!G229+перерасчет!G234+перерасчет!G247+перерасчет!G248+перерасчет!G235+перерасчет!G236 -> 102.1 | I11: =перерасчет!G288+перерасчет!G289+перерасчет!G290+перерасчет!G291+перерасчет!G300+перерасчет!G301+перерасчет!G312+перерасчет!G314+перерасчет!G315+перерасчет!G316+перерасчет!G317+перерасчет!G333+перерасчет!G334+перерасчет!G335+перерасчет!G336 -> 257.53 | J11: =перерасчет!G367+перерасчет!G368+перерасчет!G369+перерасчет!G370+перерасчет!G376+перерасчет!G377+перерасчет!G378+перерасчет!G381+перерасчет!G391+перерасчет!G392+перерасчет!G393 -> 73.02 | K11: =перерасчет!G442+перерасчет!G444+перерасчет!G449+перерасчет!G450+перерасчет!G453+перерасчет!G478+перерасчет!G480+перерасчет!G488+перерасчет!G493+перерасчет!G494+перерасчет!G495+перерасчет!G496 -> 206.245 | L11: =перерасчет!G523+перерасчет!G533+перерасчет!G534+перерасчет!G535+перерасчет!G542+перерасчет!G547+перерасчет!G548+перерасчет!G550+перерасчет!G562+перерасчет!G574+перерасчет!G565 -> 127.3 | M11: =перерасчет!G597+перерасчет!G598+перерасчет!G599+перерасчет!#REF!+перерасчет!G605+перерасчет!G611+перерасчет!G622+перерасчет!G624+перерасчет!G626+перерасчет!G627+перерасчет!G628+перерасчет!G629 -> #REF! | N11: =перерасчет!G660+перерасчет!G662+перерасчет!G663+перерасчет!G666+перерасчет!G672+перерасчет!G673+перерасчет!G681+перерасчет!G682+перерасчет!G706+перерасчет!G707+перерасчет!G708+перерасчет!G709+перерасчет!G710+перерасчет!G711+перерасчет!G716+перерасчет!G717+перерасчет!G719+перерасчет!G663+перерасчет!G671+перерасчет!G718 -> 242.7 | O11: =SUM(E11:N11)/10 -> #REF! | P11: =O11/D11%-100 -> #REF!
A12: 8 | B12: Фрукты свежие | C12: гр. | D12: =100*85/100 -> 85 | E12: =перерасчет!G73 -> 0 | F12: =перерасчет!G97 -> 100 | G12: 0 | H12: =перерасчет!G226 -> 180 | I12: =перерасчет!G343 -> 0 | J12: =перерасчет!G395 -> 36 | K12: =перерасчет!G441+перерасчет!G481+перерасчет!G431 -> 142.75 | L12: =перерасчет!G553 -> 18 | M12: =перерасчет!G592 -> 180 | N12: =перерасчет!G659+перерасчет!G696 -> 213.3 | O12: =SUM(E12:N12)/10 -> 87.005 | P12: =O12/D12%-100 -> 2.3588235
A13: 9 | B13: Фрукты сухие | C13: гр. | D13: =11*85/100 -> 9.35 | E13: =перерасчет!F42 -> 18 | F13: =перерасчет!G81 -> 10 | G13: =перерасчет!F195 -> 15 | H13: 0 | I13: =перерасчет!G320+8 -> 26 | J13: 0 | K13: 0 | L13: 0 | M13: =перерасчет!F632 -> 15 | N13: 0 | O13: =SUM(E13:N13)/10 -> 8.4 | P13: =O13/D13%-100 -> -10.160428
A14: 10 | B14: Кондит.изделия | C14: гр. | D14: =20*85/100 -> 17 | E14: =0 -> 0 | F14: 0 | G14: =0 -> 0 | H14: =перерасчет!G265 -> 20 | I14: =перерасчет!G342 -> 30 | J14: =перерасчет!G419 -> 0 | K14: =перерасчет!G498 -> 12 | L14: =перерасчет!G576 -> 0 | M14: =перерасчет!G644 -> 50 | N14: 0 | O14: =SUM(E14:N14)/10 -> 11.2 | P14: =O14/D14%-100 -> -34.117647
A15: 11 | B15: Сахар | C15: гр. | D15: =30*85/100 -> 25.5 | E15: =перерасчет!G7+перерасчет!G14+перерасчет!G43+перерасчет!G62 -> 39 | F15: =перерасчет!G80+перерасчет!G90+перерасчет!G133+перерасчет!E95 -> 35.4 | G15: =перерасчет!G191+перерасчет!G196+перерасчет!G167+перерасчет!G162 -> 62.4 | H15: =перерасчет!G252+перерасчет!G260 -> 29.6 | I15: =перерасчет!G321+перерасчет!G281+перерасчет!G274+перерасчет!G319 -> 29 | J15: =перерасчет!G352+перерасчет!G359+перерасчет!G396-20 -> 13 | K15: =перерасчет!G426+перерасчет!G432+перерасчет!G440+перерасчет!G454+перерасчет!G482-10 -> 30.83 | L15: =перерасчет!G558 -> 18 | M15: =перерасчет!G631+перерасчет!G634 -> 14 | N15: =перерасчет!F652+перерасчет!F657+перерасчет!F665+перерасчет!F699+перерасчет!F721+перерасчет!F731+перерасчет!G675 -> 32.9 | O15: =SUM(E15:N15)/10 -> 30.413 | P15: =O15/D15%-100 -> 19.266667
A16: 12 | B16: Масло сливочное | C16: гр. | D16: =21*85/100 -> 17.85 | E16: =перерасчет!G8+перерасчет!G41+перерасчет!G54+перерасчет!G63 -> 22.4925 | F16: =перерасчет!G83+перерасчет!G87++перерасчет!G119++перерасчет!G141+перерасчет!G148+перерасчет!G152 -> 22.5 | G16: 18.6 | H16: =перерасчет!G220+перерасчет!G222+перерасчет!G249+перерасчет!G224-5 -> 18.5 | I16: =перерасчет!G273+перерасчет!G311 -> 7 | J16: =перерасчет!G354+перерасчет!G356+перерасчет!G401+перерасчет!G410+перерасчет!G413 -> 17.9 | K16: =перерасчет!G428+перерасчет!G463+перерасчет!G479+перерасчет!G489+перерасчет!G492 -> 19.85 | L16: =перерасчет!G513+перерасчет!G517+перерасчет!G551+перерасчет!G566-30 -> 12.175 | M16: =перерасчет!G586+перерасчет!G612+перерасчет!G616+перерасчет!G639-15 -> 24.7 | N16: =перерасчет!G651+перерасчет!G687+перерасчет!G694+перерасчет!G714+перерасчет!G720+перерасчет!G729 -> 18.95 | O16: =SUM(E16:N16)/10 -> 18.26675 | P16: =O16/D16%-100 -> 2.3347339
A17: 13 | B17: Масло растительное | C17: гр. | D17: =11*85/100 -> 9.35 | E17: =перерасчет!G31+перерасчет!G34+перерасчет!G21+перерасчет!G69 -> 6.53 | F17: =перерасчет!G102+перерасчет!G111+перерасчет!G118+перерасчет!G145 -> 11.3 | G17: =перерасчет!G208+перерасчет!G183 -> 5.6 | H17: =перерасчет!G259+перерасчет!G228+перерасчет!G237 -> 8 | I17: =перерасчет!G338+перерасчет!G302+перерасчет!G292 -> 8 | J17: =перерасчет!G379+перерасчет!G371 -> 4.8 | K17: =перерасчет!G443+перерасчет!G452+перерасчет!G471+перерасчет!G497 -> 10.5 | L17: =перерасчет!G536 -> 2 | M17: =перерасчет!G585+перерасчет!G601 -> 8.6 | N17: =перерасчет!G664+перерасчет!G674+перерасчет!G686+5 -> 14.5 | O17: =SUM(E17:N17)/10 -> 7.983 | P17: =O17/D17%-100 -> -14.620321
A18: 14 | B18: Чай в/с | C18: гр. | D18: =0.6*85/100 -> 0.51 | E18: =0.6*85/100 -> 0.51 | F18: =0.6*85/100 -> 0.51 | G18: =0.6*85/100 -> 0.51 | H18: =0.6*85/100 -> 0.51 | I18: =0.6*85/100 -> 0.51 | J18: =0.6*85/100 -> 0.51 | K18: =0.6*85/100 -> 0.51 | ... N18: =0.6*85/100 -> 0.51 | O18: =SUM(E18:N18)/10 -> 0.51 | P18: =O18/D18%-100 -> 0
A19: 15 | B19: Мясо, мясопродукты | C19: гр. | D19: =55*85/100 -> 46.75 | E19: =перерасчет!G33 -> 96.75 | F19: =перерасчет!G114 -> 44 | G19: =0 -> 0 | H19: =перерасчет!G246 -> 96.75 | I19: =0 -> 0 | J19: =перерасчет!G380 -> 28.5 | K19: =перерасчет!G455 -> 16 | L19: =перерасчет!G540+40 -> 137.5 | M19: =перерасчет!G608 -> 38 | N19: 0 | O19: =SUM(E19:N19)/10 -> 45.75 | P19: =O19/D19%-100 -> -2.1390374
A20: 16 | B20: Рыба свеж, сельдь сол | C20: гр. | D20: =37*85/100 -> 31.45 | E20: =перерасчет!G23*2 -> 57.6 | F20: =0 -> 0 | G20: =перерасчет!F200 -> 0 | H20: 0 | I20: =перерасчет!G325 -> 49 | J20: =перерасчет!G403 -> 65 | K20: =перерасчет!G465 -> 54 | L20: =0 -> 0 | M20: 0 | N20: =перерасчет!G677 -> 68 | O20: =SUM(E20:N20)/10 -> 29.36 | P20: =O20/D20%-100 -> -6.645469
A21: 17 | B21: Молоко | C21: гр. | D21: =450*85/100 -> 382.5 | E21: =перерасчет!G3+перерасчет!G15+перерасчет!E5+перерасчет!E71 -> 462.6 | F21: =перерасчет!G86+перерасчет!G116+перерасчет!G147+перерасчет!G153+перерасчет!G96 -> 284 | G21: =перерасчет!G158+перерасчет!G168+перерасчет!G212 -> 236.3 | H21: =перерасчет!G219+перерасчет!G225+перерасчет!G266 -> 219.675 | I21: =перерасчет!G271+перерасчет!G282+перерасчет!G310 -> 289 | J21: =перерасчет!G348+перерасчет!G360+перерасчет!G408+перерасчет!G412 -> 280.5 | K21: =перерасчет!G461+перерасчет!G507+перерасчет!G469 -> 224.5 | L21: =перерасчет!G520+перерасчет!G577+перерасчет!G512 -> 257.125 | M21: =перерасчет!G583+перерасчет!G591+перерасчет!G643 -> 226.3 | N21: =перерасчет!G649+перерасчет!G658+перерасчет!G683+перерасчет!G692+перерасчет!G738 -> 462.5 | O21: =SUM(E21:N21)/10 -> 294.25 | P21: =O21/D21%-100 -> -23.071895
A22: 18 | B22: Творог, творожки | C22: гр. | D22: =40*85/100 -> 34 | E22: 0 | F22: =перерасчет!G77 -> 75 | G22: 0 | H22: =перерасчет!G256 -> 90 | I22: 0 | J22: 0 | K22: =перерасчет!G424 -> 92 | L22: 0 | M22: =перерасчет!G637 -> 77.9 | N22: 0 | O22: =SUM(E22:N22)/10 -> 33.49 | P22: =O22/D22%-100 -> -1.5
A23: 19 | B23: Сметана | C23: гр. | D23: =11*85/100 -> 9.35 | E23: =перерасчет!G56 -> 7.5 | F23: =перерасчет!G84+перерасчет!G113+перерасчет!G128 -> 21.5 | G23: 0 | H23: 0 | I23: 0 | J23: 0 | K23: =перерасчет!G430+перерасчет!G456+перерасчет!G474 -> 20.75 | L23: =перерасчет!G571+перерасчет!G539 -> 17.5 | M23: =перерасчет!G619 -> 20 | N23: =перерасчет!G676 -> 10 | O23: =SUM(E23:N23)/10 -> 9.725 | P23: =O23/D23%-100 -> 4.0106952
A24: 20 | B24: Сыр твер., колбасный | C24: гр. | D24: =6*85/100 -> 5.1 | E24: =перерасчет!G11 -> 0 | F24: =0 -> 0 | G24: =перерасчет!G165 -> 5 | H24: =перерасчет!G221-10 -> 5.6 | I24: =перерасчет!G278 -> 10 | J24: =перерасчет!G357 -> 0 | K24: 0 | L24: =перерасчет!G518 -> 5 | M24: 0 | N24: 0 | O24: =SUM(E24:N24)/10 -> 2.56 | P24: =O24/D24%-100 -> -49.803922
A25: 21 | B25: Яйцо | C25: шт | D25: =40*85/100 -> 34 | E25: =перерасчет!G67+перерасчет!G70 -> 1.46 | F25: =перерасчет!G79+перерасчет!G144 -> 18 | G25: =0 -> 0 | H25: =перерасчет!G218+перерасчет!G258 -> 108.6 | I25: =перерасчет!G296+перерасчет!G337 -> 12 | J25: =перерасчет!G382+перерасчет!G409 -> 9 | K25: =перерасчет!G427+перерасчет!G490+перерасчет!G491+перерасчет!G501 -> 18.725 | L25: =перерасчет!G511 -> 112.5 | M25: =перерасчет!G604+перерасчет!G607+перерасчет!G640 -> 49 | N25: =перерасчет!G684+перерасчет!G730+перерасчет!G731 -> 8.9285714 | O25: =SUM(E25:N25)/10 -> 33.821357 | P25: =O25/D25%-100 -> -0.52542017
A26: 22 | B26: Кофе злаковый, какао | C26: гр. | D26: =1.8*85/100 -> 1.53 | E26: =1.8*85/100 -> 1.53 | F26: =1.8*85/100 -> 1.53 | G26: =1.8*85/100 -> 1.53 | H26: =1.8*85/100 -> 1.53 | I26: =1.8*85/100 -> 1.53 | J26: =1.8*85/100 -> 1.53 | K26: =1.8*85/100 -> 1.53 | ... N26: =1.8*85/100 -> 1.53 | O26: =SUM(E26:N26)/10 -> 1.53 | P26: =O26/D26%-100 -> 0
A27: 23 | B27: Соль | C27: гр. | D27: =5*85/100 -> 4.25 | E27: 4.3 | F27: 4.3 | G27: 4.3 | H27: 4.3 | I27: 4.3 | J27: 4.3 | K27: 4.3 | L27: 4.3 | M27: 4.3 | N27: 4.3 | O27: =SUM(E27:N27)/10 -> 4.3 | P27: =O27/D27%-100 -> 1.1764706
A28: 24 | B28: Дрожжи | C28: гр. | D28: =0.5*85/100 -> 0.425 | E28: =0.5*85/100 -> 0.425 | F28: =0.5*85/100 -> 0.425 | G28: =0.5*85/100 -> 0.425 | H28: =0.5*85/100 -> 0.425 | I28: =0.5*85/100 -> 0.425 | J28: =0.5*85/100 -> 0.425 | K28: =0.5*85/100 -> 0.425 | ... N28: =0.5*85/100 -> 0.425 | O28: =SUM(E28:N28)/10 -> 0.425 | P28: =O28/D28%-100 -> 0
A29: 25 | B29: Птица | C29: гр. | D29: =24*85/100 -> 20.4 | E29: =перерасчет!G52-40 -> 19 | F29: =перерасчет!G112+перерасчет!G142-40 -> 24.666667 | G29: 0 | H29: =перерасчет!E241 -> 0 | I29: =перерасчет!G305+перерасчет!G306 -> 55.333333 | J29: =перерасчет!G388-40 -> 28.333333 | K29: 0 | L29: =перерасчет!E538 -> 11.333333 | M29: =перерасчет!G603 -> 11.333333 | N29: =перерасчет!G724-20 -> 62 | O29: =SUM(E29:N29)/10 -> 21.2 | P29: =O29/D29%-100 -> 3.9215686
A30: 27 | B30: Соки | C30: л | D30: =150*85/100 -> 127.5 | E30: 0 | F30: =перерасчет!G171 -> 180 | G30: 54 | H30: =перерасчет!G283 -> 180 | I30: =перерасчет!G362 -> 180 | J30: 0 | K30: 0 | L30: =перерасчет!G522 -> 180 | M30: =перерасчет!G659 -> 180 | N30: 125 | O30: =SUM(E30:N30)/10 -> 107.9 | P30: =O30/D30%-100 -> -15.372549
A31: 28 | B31: Макаронный изделия | C31: гр. | D31: =12*85/100 -> 10.2 | E31: 0 | F31: =перерасчет!G193-10 -> 34.2 | G31: 0 | H31: 0 | I31: =перерасчет!G400 -> 45.5 | J31: 0 | K31: 0 | L31: 0 | M31: 0 | N31: 10.2 | O31: =SUM(E31:N31)/10 -> 8.99 | P31: =O31/D31%-100 -> -11.862745
A32: 29 | B32: Субпродукты | D32: =25*85/100 -> 21.25 | E32: =перерасчет!G33-20 -> 76.75 | K32: =перерасчет!F486 -> 136 | N32: 0 | O32: =SUM(E32:N32)/10 -> 21.275 | P32: =O32/D32%-100 -> 0.11764706

Sheet перспективка
A1: Возрастная категория с 1-3года; 3-7лет 85% на 2022год
B4: № с/р | C4: Наименование блюда | D4: Выход | F4: № с/р | G4: Наименование блюда | H4: Выход | J4: № с/р | K4: Наименование блюда | L4: Выход | N4: № с/р | O4: Наименование блюда | P4: Выход | R4: № с/р | S4: Наименование блюда | T4: Выход
A5: завтрак | B5: день 1-й | D5: я | E5: с | F5: день 2-й | H5: я | I5: с | J5: день 3-й | L5: я | M5: с | N5: день 4-й | P5: я | Q5: с | R5: день 5-й | T5: я | U5: с
B6: 168 | C6: Каша молочная геркулес | D6: 130 | E6: 150 | F6: 235 | G6: Пудинг из творога | H6: 90 | I6: 100 | J6: 185 | K6: Каша пшенная жидкая | L6: 130 | M6: 150 | N6: 216 | O6: Омлет с сыром | P6: 130 | Q6: 150 | R6: 185 | S6: Каша молочная гречневая | T6: 130 | U6: 150
B7: 1 | C7: Батон нарезной | D7: 24 | E7: 30 | F7: 351 | G7: Соус молочный сладкий | H7: 30 | I7: 30 | J7: 1 | K7: Батон нарезной | L7: 24 | M7: 30 | N7: 1 | O7: Батон нарезной | P7: 24 | Q7: 30 | R7: 1 | S7: Батон нарезной | T7: 24 | U7: 30
B8: 6 | C8: Масло сливочное | D8: 5 | E8: 5 | F8: 394 | G8: Чай с молоком | H8: 150 | I8: 180 | J8: 7 | K8: Сыр | L8: 5 | M8: 5 | N8: 6 | O8: Масло сливочное | P8: 5 | Q8: 5 | R8: 7 | S8: Сыр | T8: 5 | U8: 10
B9: 395 | C9: Кофейный напиток | D9: 150 | E9: 180 | F9: 1 | G9: Батон нарезной | H9: 24 | I9: 30 | J9: 397 | K9: Какао с молоком | L9: 150 | M9: 180 | N9: 400 | O9: Молоко кипяченное | P9: 150 | Q9: 180 | R9: 394 | S9: Чай с молоком | T9: 150 | U9: 180
A10: 2-й завтрак | B10: 399 | C10: Сок | D10: 200 | E10: 180 | F10: 368 | G10: Фрукт | H10: 95 | I10: 100 | J10: 399 | K10: Сок | L10: 200 | M10: 180 | N10: 401 | O10: Кисломолочный продукт | P10: 150 | Q10: 180 | R10: 399 | S10: Сок | T10: 200 | U10: 180
A11: обед | B11: 45 | C11: Икра кабачковая | D11: 30 | E11: 50 | F11: 14 | G11: Огурец свежий | H11: 30 | J11: 15 | K11: Салат из св.помидор и огурцов | L11: 45 | M11: 60 | N11: 33 | O11: Салат из свеклы | P11: 30 | Q11: 50 | R11: 25 | S11: Салат карт.с зел.горошком | T11: 30 | U11: 50
B12: 87 | C12: Суп с рыбными консервами | D12: 150 | E12: 180 | F12: 10 | G12: Салат из зеленого горошка | I12: 50 | J12: 81 | K12: Суп карт с бобовыми | L12: 150 | M12: 180 | N12: 75 | O12: Рассольник домашний | P12: 180 | Q12: 180 | R12: 86 | S12: Суп-лапша домашняя | T12: 200/10 | U12: 250/10
B13: 277 | C13: Гуляш из отварной говядины | D13: 50 | E13: 60 | F13: 67 | G13: Щи из свежей капусты | H13: 150 | I13: 180 | J13: 278 | K13: Бефстроганов | L13: 50 | M13: 60 | N13: 276 | O13: Жаркое по-домашнему | P13: 160 | Q13: 200 | R13: 306 | S13: Биточки рубленые из птицы | T13: 50 | U13: 60
B14: 313 | C14: Каша рассыпчатая гречневая | D14: 100 | E14: 150 | F14: 282 | G14: Котлета мясная | H14: 50 | I14: 60 | J14: 205 | K14: Макаронные изд отварные | L14: 110 | M14: 130 | N14: 382 | O14: Кисель из сока | P14: 150 | Q14: 180 | R14: 132 | S14: Капуста тушеная | T14: 150 | U14: 150
B15: 376 | C15: Компот из сушеных фруктов | D15: 150 | E15: 180 | F15: 133 | G15: Картофель, тушеный в соусе | H15: 110 | I15: 130 | J15: 376 | K15: Компот из сушеных фруктов (кураги) | L15: 150 | M15: 180 | N15: 1 | O15: Хлеб пшеничный | P15: 20 | Q15: 25 | R15: 398 | S15: Напиток из плодов шиповника | T15: 150 | U15: 180
B16: 1 | C16: Хлеб пшеничный | D16: 20 | E16: 25 | F16: 376 | G16: Комот из сушеных фруктов(чернослив) | H16: 150 | I16: 180 | J16: 1 | K16: Хлеб в/с | L16: 20 | M16: 25 | N16: 1 | O16: Хлеб ржаной (ржано-пшеничный) | P16: 17 | Q16: 21 | R16: 1 | S16: Хлеб пшеничный | T16: 20 | U16: 25
B17: 1 | C17: Хлеб ржаной (ржано-пшеничный) | D17: 17 | E17: 21 | F17: 1 | G17: Хлеб пшеничный | H17: 20 | I17: 25 | J17: 1 | K17: Хлеб ржаной | L17: 17 | M17: 21 | R17: 1 | S17: Хлеб ржаной (ржано-пшеничный) | T17: 17 | U17: 21
F18: 1 | G18: Хлеб ржаной (ржано-пшеничный) | H18: 17 | I18: 21
A19: полдник | B19: 302 | C19: Птица, тушенная в соусе | D19: 150 | E19: 190 | F19: 320 | G19: Овощи отварные с маслом | H19: 100 | I19: 130 | J19: 291 | K19: Запеканка картофельная с мясом | L19: 120/5 | M19: 180/5 | N19: 231 | O19: Сырники из творога | P19: 50 | Q19: 100 | R19: 252 | S19: Рыба, запеченная в сметанном соусе | T19: 60 | U19: 80
B20: 1 | C20: Хлеб ржаной (ржано-пшеничный) | D20: 17 | E20: 21 | F20: 310 | G20: Суфле из птицы | H20: 50 | I20: 60 | J20: 8 | L20: 0 | N20: т-9 | O20: Повидло | P20: 20 | Q20: 20 | R20: 315 | S20: Рис отварной | T20: 110 | U20: 130
B21: 400 | C21: Молоко кипяченое | D21: 150 | E21: 180 | F21: 401 | G21: Кисломолочный продукт | H21: 150 | I21: 180 | J21: 392 | K21: Чай | L21: 150 | M21: 180 | N21: 392 | O21: Чай | P21: 150 | Q21: 180 | R21: 1 | S21: Хлеб ржаной (ржано-пшеничный) | T21: 17 | U21: 21
B22: 496 | C22: Коржики молочные | D22: 50 | E22: 50 | F22: 1 | G22: Хлеб ржаной (ржано-пшеничный) | H22: 17 | I22: 21 | J22: 1 | K22: Хлеб пшеничный | L22: 17 | M22: 21 | N22: 1 | O22: Хлеб ржаной (ржано-пшеничный) | P22: 17 | Q22: 21 | R22: 392 | S22: Чай с мармеладом | T22: 150/15 | U22: 180/30
K23: Пряник | L23: 20 | M23: 40
A25: завтрак | B25: № с/р | C25: Наименование блюда | D25: Выход | F25: № с/р | G25: Наименование блюда | H25: Выход | J25: № с/р | K25: Наименование блюда | L25: Выход | N25: № с/р | O25: Наименование блюда | P25: Выход | R25: № с/р | S25: Наименование блюда | T25: Выход
B26: день 6-й | D26: я | E26: с | F26: день 7-й | H26: я | I26: с | J26: день 8-й | L26: я | M26: с | N26: день 9-й | P26: я | Q26: с | R26: день 10-й | T26: я | U26: с
B27: 185 | C27: Каша молочная манная | D27: 150 | E27: 150 | F27: 237 | G27: Запеканка из творога | H27: 100/30 | I27: 100/30 | J27: 215 | K27: Омлет натуральный | L27: 150/5 | M27: 150/5 | N27: 207 | O27: Макарон. изд. запеченные с сыром (вермишель) | P27: 150 | Q27: 200 | R27: 168 | S27: Каша молочная рисовая | T27: 150 | U27: 200
B28: 3 | C28: Бутерброд с сыром и маслом | D28: 24/5/5 | E28: 30/5/10 | F28: 1 | G28: Батон нарезной | H28: 24 | I28: 30 | J28: 1 | K28: Батон нарезной | L28: 24 | M28: 30 | N28: 1 | O28: Батон нарезной | P28: 24 | Q28: 30 | R28: 3 | S28: Батон нарезной | T28: 25 | U28: 30
B29: 397 | C29: Какао с молоком | D29: 150 | E29: 180 | F29: 7 | J29: 7 | K29: Сыр | L29: 5 | M29: 5 | N29: 6 | O29: Масло сливочное | P29: 10 | Q29: 10 | R29: 394 | S29: Чай с молоком | T29: 150 | U29: 180
F30: 392 | G30: Чай с сахаром | H30: 150 | I30: 180 | J30: 396 | K30: Кофейный напиток со сгущ. молоком | L30: 150 | M30: 180 | N30: 397 | O30: Какао с молоком | P30: 150 | Q30: 180 | R30: 368 | S30: Фрукт | T30: 95
A31: 2-й завтрак | B31: 399 | C31: Соки овощные, фруктовые или ягодные | D31: 200 | E31: 180 | F31: 368 | G31: Фрукт | H31: 95 | I31: 100 | J31: 368 | K31: Соки овощные, фруктовые или ягодные | L31: 200 | M31: 180 | N31: 401 | O31: Кисломолочный продукт | P31: 150 | Q31: 180 | R31: 399 | S31: Соки овощные, фруктовые или ягодные | U31: 180
A32: обед | B32: 47 | C32: Салат из морской капусты | D32: 45 | E32: 60 | F32: 13 | G32: Салат из свежих огурцов | H32: 30 | I32: 50 | J32: 13 | K32: Помидор свежий | L32: 45 | M32: 0 | N32: 45 | O32: Винигрет овощной | P32: 45 | Q32: 60 | R32: 54 | S32: Икра свекольная или морковная | T32: 30 | U32: 50
B33: 83 | C33: Суп картоф.с мясными фрикадельками | D33: 180 | E33: 180 | F33: 63 | G33: Борщ с фасолью и картофелем | H33: 150 | I33: 200 | J33: 12 | K33: Салат из кукурузы | L33: 0 | M33: 50 | N33: 108 | O33: Бульон с птицей, гренками и яйцом | P33: 200/10/10/40 | Q33: 250/10/10/40 | R33: 58 | S33: Борщ с картофелем | T33: 180 | U33: 200
B34: 304 | C34: Плов из мяса птицы | D34: 150 | E34: 180 | F34: 321 | G34: Пюре картофельное | H34: 120 | I34: 150 | J34: 76 | K34: Рассольник ленинградский | L34: 180 | M34: 200 | N34: 132 | O34: Капуста тушеная | P34: 150 | Q34: 150 | R34: 258 | S34: Шницель рыбный | T34: 70 | U34: 80
B35: 372 | C35: Комот из свежих плодов | D35: 150 | E35: 180 | F35: 261 | G35: Тефтели рыбные тушеные с соусом | H35: 60/15 | I35: 80/30 | J35: 274 | K35: Мясо тушеное с овощами | L35: 170 | M35: 220 | N35: 286 | O35: Тефтеля мясная | P35: 60/60 | Q35: 80/80 | R35: 321 | S35: Пюре картофельное | T35: 120 | U35: 150
B36: 1 | C36: Хлеб пшеничный | D36: 20 | E36: 25 | F36: 372 | G36: Компот из свежих фруктов | H36: 150 | I36: 180 | J36: 378 | K36: Кисель из плодов свежих | L36: 180 | M36: 200 | N36: 398 | O36: Напиток из плодов шиповника | P36: 150 | Q36: 180 | R36: 376 | S36: Комот из сушеных фруктов(курага) | T36: 180 | U36: 200
B37: 1 | C37: Хлеб ржаной (ржано-пшеничный) | D37: 17 | E37: 21 | F37: 1 | G37: Хлеб пшеничный | H37: 20 | I37: 25 | J37: 1 | K37: Хлеб в/с | L37: 20 | M37: 30 | N37: 1 | O37: Хлеб в/с | P37: 20 | Q37: 30 | R37: 1 | S37: Хлеб в/с | T37: 20 | U37: 30
F38: 1 | G38: Хлеб ржаной (ржано-пшеничный) | H38: 17 | I38: 21 | J38: 1 | K38: Хлеб ржаной (ржано-пшеничный) | L38: 17 | M38: 21 | N38: 1 | O38: Хлеб ржаной (ржано-пшеничный) | P38: 17 | Q38: 21 | R38: 1 | S38: Хлеб ржаной (ржано-пшеничный) | T38: 17 | U38: 21
A39: полдник | B39: 269 | C39: Пудинг из рыбы запеченный | D39: 75 | E39: 110 | F39: 294 | G39: Запеканка из печени | H39: 150/5 | I39: 180/5 | J39: 298 | K39: Голубцы ленивые | L39: 60 | M39: 80 | N39: 229 | O39: Вареники ленивые | P39: 65 | Q39: 105 | R39: 342 | S39: Рагу овощное | T39: 100 | U39: 150
B40: 205 | C40: Макаронные изд отварные | D40: 120 | E40: 130 | F40: 1 | G40: Хлеб ржаной (ржано-пшеничный) | H40: 17 | I40: 21 | L40: 20 | M40: 40 | N40: 392 | O40: Чай | P40: 150 | Q40: 180 | R40: 300 | S40: Птица отварная | T40: 60 | U40: 60
B41: 392 | C41: Чай с медом | D41: 150 | E41: 180 | F41: 55 | G41: Икра овощная | H41: 45 | I41: 60 | J41: 400 | K41: Молоко кипяченное | L41: 150 | M41: 180 | O41: Вафли | P41: 20 | Q41: 50 | R41: 467 | S41: Булочка ванильная | T41: 50 | U41: 50
B42: 1 | C42: Хлеб ржаной (ржано-пшеничный) | D42: 17 | E42: 21 | F42: 491 | G42: Полоска песочная с повидлом | H42: 25 | I42: 25 | J42: 1 | K42: Хлеб ржаной (ржано-пшеничный) | L42: 17 | M42: 21 | N42: 1 | O42: Хлеб ржаной (ржано-пшеничный) | P42: 17 | Q42: 21 | R42: 400 | S42: Молоко кипяченое | T42: 150 | U42: 180
B43: 491 | F43: 401 | G43: Кисломолочный продукт | H43: 150 | I43: 180 | R43: 1 | S43: Хлеб ржаной (ржано-пшеничный) | T43: 17 | U43: 21

Sheet перерасчет
A1: 2021г | B1: 1-й день | D1: 1-3года | F1: 3-7лет
A2: № р-ры | D2: брутто | E2: нетто | F2: брутто | G2: нетто
A3: 168 | B3: Каша вязкая (молочная геркулес) | C3: молоко | D3: =820*130/1000 -> 106.6 | E3: =820*130/1000 -> 106.6 | F3: =820*150/1000 -> 123 | G3: =820*150/1000 -> 123
C4: или сухое | D4: =D3*0.12 -> 12.792 | E4: =E3*0.12 -> 12.792 | F4: =F3*0.12 -> 14.76 | G4: =G3*0.12 -> 14.76
A5: завтрак | C5: вода для сухого молока | D5: =880*130/1000-14.8 -> 99.6 | E5: =880*130/1000-14.8 -> 99.6 | F5: =880*150/1000-19.7 -> 112.3 | G5: =880*150/1000-19.7 -> 112.3
B6: 130/150 | C6: геркулес | D6: =222*130/1000 -> 28.86 | E6: =222*130/1000 -> 28.86 | F6: =222*150/1000 -> 33.3 | G6: =222*150/1000 -> 33.3
C7: сахар | D7: 5 | E7: 5 | F7: 5 | G7: 5
C8: масло слив | D8: 5 | E8: 5 | F8: 5 | G8: 5
C9: соль | D9: =1.5*130/1000 -> 0.195 | E9: =1.5*130/1000 -> 0.195 | F9: =1.5*150/1000 -> 0.225 | G9: =1.5*150/1000 -> 0.225
A10: 1 | B10: Батон нарезной | C10: батон | D10: 24 | E10: 24 | F10: 30 | G10: 30
B11: 24/5 30/5
A12: 6 | B12: Масло сливочное | C12: масло сливочное | D12: 5.3 | E12: 5 | F12: 5.3 | G12: 5
A13: 395 | B13: Кофейный напиток | C13: коф напит | D13: 2 | E13: 2 | F13: 3 | G13: 3
B14: 150/180 | C14: сахар | D14: 7 | E14: 7 | F14: 10 | G14: 10
C15: молоко цельное | D15: 75 | E15: 75 | F15: 90 | G15: 90
C16: вода | D16: 90 | E16: 90 | F16: 108 | G16: 108
A17: 2й завтрак | B17: Сок 200/200 | C17: сок | D17: 200 | E17: 200 | F17: 180 | G17: 180
A18: 53 | B18: Икра кабачковая | C18: кабачковая икра | D18: 30 | E18: 30 | F18: 50 | G18: 50
B19: 30/50
A22: обед | B22: Суп с рыбными консервами | C22: морковь | D22: =80*150/1000 -> 12 | E22: =64*150/1000 -> 9.6 | F22: =80*180/1000 -> 14.4 | G22: =64*180/1000 -> 11.52
A23: 87 | C23: консерва рыбная | D23: =160*150/1000 -> 24 | E23: =160*150/1000 -> 24 | F23: =160*180/1000 -> 28.8 | G23: =160*180/1000 -> 28.8
A24: выход | B24: 150 180 | C24: картофель 1сентябрь | D24: =E24*1.33 -> 55.86 | E24: =280*150/1000 -> 42 | F24: =G24*1.33 -> 67.032 | G24: =280*180/1000 -> 50.4
C25: картофель 1ноябрь | D25: =E25*1.43 -> 60.06 | E25: =280*150/1000 -> 42 | F25: =G25*1.43 -> 72.072 | G25: =280*180/1000 -> 50.4
C26: картофель 1января | D26: =E26*1.54 -> 64.68 | E26: =280*150/1000 -> 42 | F26: =G26*1.54 -> 77.616 | G26: =280*180/1000 -> 50.4
C27: картофель 1марта | D27: =E27*1.67 -> 70.14 | E27: =280*150/1000 -> 42 | F27: =G27*1.67 -> 84.168 | G27: =280*180/1000 -> 50.4
C28: крупа рисовая | D28: =20*150/1000 -> 3 | E28: =20*150/1000 -> 3 | F28: =20*180/1000 -> 3.6 | G28: =20*180/1000 -> 3.6
C29: лук репчатый | D29: =38*150/1000 -> 5.7 | E29: =32*150/1000 -> 4.8 | F29: =38*180/1000 -> 6.84 | G29: =32*180/1000 -> 5.76
C30: зелень | D30: =7.2*150/1000 -> 1.08 | E30: =7*150/1000 -> 1.05 | F30: =7.2*180/1000 -> 1.296 | G30: =7*180/1000 -> 1.26
C31: масло растительное | D31: =15*150/1000 -> 2.25 | E31: =15*150/1000 -> 2.25 | F31: =15*180/1000 -> 2.7 | G31: =15*180/1000 -> 2.7
C32: соль | D32: =0.6*150/1000 -> 0.09 | E32: =0.6*150/1000 -> 0.09 | F32: =0.6*180/1000 -> 0.108 | G32: =0.6*180/1000 -> 0.108
A33: 277 | B33: Гуляш из отварной говядины | C33: говядина | D33: =E33*1.095 -> 88.5125 | E33: =97*50/60 -> 80.833333 | F33: =G33*1.095 -> 105.94125 | G33: =129*60/80 -> 96.75
B34: 50/50 60/60 | C34: масло раст | D34: =4*50/60 -> 3.3333333 | E34: =4*50/60 -> 3.3333333 | F34: =5*60/80 -> 3.75 | G34: =5*60/80 -> 3.75
C35: морковь | D35: =25*50/60 -> 20.833333 | E35: =20*50/60 -> 16.666667 | F35: =19*60/80 -> 14.25 | G35: =15*60/80 -> 11.25
C36: мука | D36: =3*50/60 -> 2.5 | E36: =3*50/60 -> 2.5 | F36: =4*60/80 -> 3 | G36: =4*60/80 -> 3
C37: вода или отвар | D37: =40*50/60 -> 33.333333 | E37: =40*50/60 -> 33.333333 | F37: =53*60/80 -> 39.75 | G37: =53*60/80 -> 39.75
C38: лук репчатый | D38: =12*50/60 -> 10 | E38: =10*50/60 -> 8.3333333 | F38: =17*60/80 -> 12.75 | G38: =14*60/80 -> 10.5
C39: томат паста | D39: 0 | E39: 0 | F39: =6*0.4*60/80 -> 1.8 | G39: =6*0.4*60/80 -> 1.8
A40: 313 | B40: Каша рассыпчатая гречневая | C40: крупа греч | D40: =47.6*97/100 -> 46.172 | E40: =47.6*97/100 -> 46.172 | F40: =47.6*145.5/100 -> 69.258 | G40: =47.6*145.5/100 -> 69.258
B41: 100/150 | C41: масло слив | D41: =35*97/1000 -> 3.395 | E41: =35*97/1000 -> 3.395 | F41: =35*145.5/1000 -> 5.0925 | G41: =35*145.5/1000 -> 5.0925
A42: 376 | B42: Компот из сушеных фруктов(курага) | C42: курага | D42: =100*150/1000 -> 15 | E42: =100*150/1000 -> 15 | F42: =100*180/1000 -> 18 | G42: =100*180/1000 -> 18
...
